BEGIN:VCALENDAR
VERSION:2.0
PRODID:-//Darius de Haas - ECPv6.15.14//NONSGML v1.0//EN
CALSCALE:GREGORIAN
METHOD:PUBLISH
X-ORIGINAL-URL:https://www.dariusdehaas.com
X-WR-CALDESC:Events for Darius de Haas
REFRESH-INTERVAL;VALUE=DURATION:PT1H
X-Robots-Tag:noindex
X-PUBLISHED-TTL:PT1H
BEGIN:VTIMEZONE
TZID:America/New_York
BEGIN:DAYLIGHT
TZOFFSETFROM:-0500
TZOFFSETTO:-0400
TZNAME:EDT
DTSTART:20240310T070000
END:DAYLIGHT
BEGIN:STANDARD
TZOFFSETFROM:-0400
TZOFFSETTO:-0500
TZNAME:EST
DTSTART:20241103T060000
END:STANDARD
BEGIN:DAYLIGHT
TZOFFSETFROM:-0500
TZOFFSETTO:-0400
TZNAME:EDT
DTSTART:20250309T070000
END:DAYLIGHT
BEGIN:STANDARD
TZOFFSETFROM:-0400
TZOFFSETTO:-0500
TZNAME:EST
DTSTART:20251102T060000
END:STANDARD
BEGIN:DAYLIGHT
TZOFFSETFROM:-0500
TZOFFSETTO:-0400
TZNAME:EDT
DTSTART:20260308T070000
END:DAYLIGHT
BEGIN:STANDARD
TZOFFSETFROM:-0400
TZOFFSETTO:-0500
TZNAME:EST
DTSTART:20261101T060000
END:STANDARD
END:VTIMEZONE
BEGIN:VEVENT
DTSTART;TZID=America/New_York:20251225T090000
DTEND;TZID=America/New_York:20251225T090000
DTSTAMP:20260422T155709
CREATED:20250829T091414Z
LAST-MODIFIED:20250829T091414Z
UID:9401-1766653200-1766653200@www.dariusdehaas.com
SUMMARY:Movie Release 'Song Sung Blue' starring Hugh Jackman and Kate Hudson
DESCRIPTION:Darius makes an appearance in ‘Song Sung Blue.’ Based on a true story\, two down-on-their-luck musicians (Hugh Jackman and Kate Hudson) form a joyous Neil Diamond tribute band\, proving it’s never too late to find love and follow your dreams.
URL:https://www.dariusdehaas.com/events/movie-release-song-sung-blue-starring-hugh-jackman-and-kate-hudson/
CATEGORIES:Movie
ATTACH;FMTTYPE=image/jpeg:https://www.dariusdehaas.com/wp-content/uploads/2025/08/Song-Sung-Blue.jpg
END:VEVENT
END:VCALENDAR